BEGIN:VCALENDAR
VERSION:2.0
PRODID:icalendar-ruby
CALSCALE:GREGORIAN
METHOD:PUBLISH
BEGIN:VEVENT
DTSTAMP:20260422T172934Z
UID:372-608196@genesisgc.com.au
DTSTART;VALUE=DATE:20260515
DTEND;VALUE=DATE:20260515
CLASS:PUBLIC
CREATED:20260422T103736
DESCRIPTION:Genesis Youth – Special Event Night\nThis Friday we’re runn
 ing a special Genesis Youth event with plans shared directly with our regu
 lar youth and their families. To help us keep the night safe and well‑su
 pervised\, full details are available by contacting Jordan or Marley.\nYou
 th runs every Friday during school term for all high‑school‑aged stude
 nts\, and we’d love to welcome anyone new — just reach out first so we
  can pass on the info you’ll need.
LAST-MODIFIED:20260422T103736
LOCATION:Genesis Church
SUMMARY:Youth Night
URL;VALUE=URI:https://genesisgc.com.au/events/youth-night/2026-05-15
ATTACH;FILENAME=A Sunday 26th April 2026 (2).png;FMTTYPE=image/png:https://
 dq5pwpg1q8ru0.cloudfront.net/2026/04/22/00/37/35/145fed22-cb99-4b4f-93dd-f
 a7d768ab706/A%20Sunday%2026th%20April%202026%20(2).png
END:VEVENT
END:VCALENDAR
