BEGIN:VCALENDAR
VERSION:2.0
PRODID:icalendar-ruby
CALSCALE:GREGORIAN
METHOD:PUBLISH
BEGIN:VEVENT
DTSTAMP:20260422T142739Z
UID:369-608199@genesisgc.com.au
DTSTART:20260424T083000Z
DTEND:20260424T103000Z
CLASS:PUBLIC
CREATED:20260422T104130
DESCRIPTION:Genesis Youth\nWe’re kicking off Term 2 at Genesis Youth this
  Friday! Our leaders have a great night planned for high‑schoolers\, wit
 h all the details shared directly with our regular youth and their familie
 s.\nIf you’re new or would like to know more\, please contact Jordan or 
 Marley for this week’s plan and location information. Youth runs every F
 riday during school term for all high‑school‑aged students.
LAST-MODIFIED:20260422T104130
LOCATION:
SUMMARY:Youth - 1st week back
URL;VALUE=URI:https://genesisgc.com.au/events/youth-1st-week-back/2026-04-2
 4
ATTACH;FILENAME=A Sunday 26th April 2026 (1).png;FMTTYPE=image/png:https://
 dq5pwpg1q8ru0.cloudfront.net/2026/04/22/00/28/03/20841350-3ba5-4a25-8ebd-8
 198ba3269f7/A%20Sunday%2026th%20April%202026%20(1).png
END:VEVENT
END:VCALENDAR
