BEGIN:VCALENDAR
VERSION:2.0
PRODID:icalendar-ruby
CALSCALE:GREGORIAN
METHOD:PUBLISH
BEGIN:VEVENT
DTSTAMP:20260425T112641Z
UID:377-608203@genesisgc.com.au
DTSTART:20260501T000000Z
DTEND:20260501T013000Z
CLASS:PUBLIC
CREATED:20260422T105628
DESCRIPTION:Playgroup – Tabletop Games\nThis week at Playgroup we’re se
 tting up a range of simple tabletop activities for little ones to explore 
 — things like puzzles\, stacking toys\, matching games\, and other easy 
 play options suited to babies through to pre‑schoolers. It’s a relaxed
  morning for children and their grown‑ups to play\, chat\, and enjoy tim
 e together.\nFriday\, 10–11.30am Birth to pre‑school age\, with their 
 adults.
LAST-MODIFIED:20260422T105628
LOCATION:Genesis Church
SUMMARY:Tabletop Games
URL;VALUE=URI:https://genesisgc.com.au/events/tabletop-games/2026-05-01
ATTACH;FILENAME=8.png;FMTTYPE=image/png:https://dq5pwpg1q8ru0.cloudfront.ne
 t/2026/04/22/00/56/27/865e9d22-937c-48d5-9b06-4e70b144a0ab/8.png
END:VEVENT
END:VCALENDAR
