BEGIN:VCALENDAR
VERSION:2.0
PRODID:icalendar-ruby
CALSCALE:GREGORIAN
METHOD:PUBLISH
BEGIN:VEVENT
DTSTAMP:20260422T171358Z
UID:374-608200@genesisgc.com.au
DTSTART:20260529T080000Z
DTEND:20260529T110000Z
CLASS:PUBLIC
CREATED:20260422T104401
DESCRIPTION:Genesis Youth – Recording Night\nThis Friday we’re diving i
 nto a creative Recording Night at Genesis Youth. It’s a relaxed\, hands
 ‑on evening where our high‑schoolers get to experiment\, contribute\, 
 and have fun being part of something we’re putting together as a group. 
 We’re running 6–9pm\, and there’s no Bible Study this week.
LAST-MODIFIED:20260422T104401
LOCATION:Genesis Church
SUMMARY:Recording Night
URL;VALUE=URI:https://genesisgc.com.au/events/recording-night--374/2026-05-
 29
ATTACH;FILENAME=33.png;FMTTYPE=image/png:https://dq5pwpg1q8ru0.cloudfront.n
 et/2026/04/22/00/44/01/be4a8fc5-288c-4361-b41e-450d3844006d/33.png
END:VEVENT
END:VCALENDAR
