BEGIN:VCALENDAR
VERSION:2.0
PRODID:icalendar-ruby
CALSCALE:GREGORIAN
METHOD:PUBLISH
BEGIN:VEVENT
DTSTAMP:20260422T143242Z
UID:367-608140@genesisgc.com.au
DTSTART:20260428T000000Z
DTEND:20260428T020000Z
CLASS:PUBLIC
CREATED:20260422T101837
DESCRIPTION:Ladies Morning Tea\nJoin us for a relaxed morning of connection
  and conversation at NewLife Café in Robina. We’ll gather at 10am on Tu
 esday 28th April to enjoy a friendly morning tea together — a simple cha
 nce to slow down\, chat\, and build community. Everyone is welcome to come
  along\, including men.
LAST-MODIFIED:20260422T101837
LOCATION:New Life Cafe
SUMMARY:Ladies Morning Tea
URL;VALUE=URI:https://genesisgc.com.au/events/ladies-morning-tea--367/2026-
 04-28
ATTACH;FILENAME=5.png;FMTTYPE=image/png:https://dq5pwpg1q8ru0.cloudfront.ne
 t/2026/04/22/00/18/37/e51c6fc8-3ac5-44d2-a4a6-c28debd62d01/5.png
END:VEVENT
END:VCALENDAR
