BEGIN:VCALENDAR
VERSION:2.0
PRODID:icalendar-ruby
CALSCALE:GREGORIAN
METHOD:PUBLISH
BEGIN:VEVENT
DTSTAMP:20260422T235502Z
UID:368-609564@genesisgc.com.au
DTSTART:20260603T000000Z
DTEND:20260603T020000Z
CLASS:PUBLIC
CREATED:20260423T083429
DESCRIPTION:Ladies Bible Study\nGather with other women each Wednesday for 
 a warm\, welcoming time of Scripture\, conversation\, and community. We me
 et 10am–12pm in the Gold Coast House of Prayer\, sharing tea or coffee\,
  a short teaching\, and open discussion. This group runs every week during
  school term\, and everyone is welcome.
LAST-MODIFIED:20260423T083429
LOCATION:Gold Coast House of Prayer
SUMMARY:Ladies Bible Study
URL;VALUE=URI:https://genesisgc.com.au/events/ladies-bible-study/2026-06-03
ATTACH;FILENAME=6.png;FMTTYPE=image/png:https://dq5pwpg1q8ru0.cloudfront.ne
 t/2026/04/22/00/21/37/2630d070-1990-4804-83b3-79fdb1e181ef/6.png
END:VEVENT
END:VCALENDAR
