BEGIN:VCALENDAR
VERSION:2.0
PRODID:icalendar-ruby
CALSCALE:GREGORIAN
METHOD:PUBLISH
BEGIN:VEVENT
DTSTAMP:20260422T173703Z
UID:373-608198@genesisgc.com.au
DTSTART:20260522T080000Z
DTEND:20260522T110000Z
CLASS:PUBLIC
CREATED:20260422T104031
DESCRIPTION:Genesis Youth – Improv Night\nWe’re mixing things up this F
 riday with an Improv Night — a fun\, fast‑paced evening of creative ga
 mes\, quick thinking\, and plenty of laughs. No acting experience needed\;
  it’s all about having a go and enjoying the moment together. Youth star
 ts at 7pm\, with Bible Study from 6pm for anyone who’d like to come earl
 y.
LAST-MODIFIED:20260422T104031
LOCATION:Genesis Church
SUMMARY:Improv Night
URL;VALUE=URI:https://genesisgc.com.au/events/improv-night/2026-05-22
ATTACH;FILENAME=32.png;FMTTYPE=image/png:https://dq5pwpg1q8ru0.cloudfront.n
 et/2026/04/22/00/40/03/0ae1d5ca-1814-45d4-a193-aca007a85c2e/32.png
END:VEVENT
END:VCALENDAR
