BEGIN:VCALENDAR
VERSION:2.0
PRODID:icalendar-ruby
CALSCALE:GREGORIAN
METHOD:PUBLISH
BEGIN:VEVENT
DTSTAMP:20260422T173556Z
UID:371-608195@genesisgc.com.au
DTSTART:20260508T080000Z
DTEND:20260508T110000Z
CLASS:PUBLIC
CREATED:20260422T103433
DESCRIPTION:Genesis Youth – Challenge Night\nThis Friday we’re running 
 a fun\, high‑energy challenge night at Genesis Youth — a mix of creati
 ve activities and friendly competition inspired by “Dude”‑style idea
 s. Youth starts at 7pm\, with Bible Study from 6pm for anyone who wants to
  come early. A great night for high‑schoolers to have a laugh\, and enjo
 y time together.
LAST-MODIFIED:20260422T103433
LOCATION:Genesis Church
SUMMARY:Dude Perfect Challenges
URL;VALUE=URI:https://genesisgc.com.au/events/dude-perfect-challenges/2026-
 05-08
ATTACH;FILENAME=30.png;FMTTYPE=image/png:https://dq5pwpg1q8ru0.cloudfront.n
 et/2026/04/22/00/34/33/93e4430b-57cc-4c16-84b1-8a4336439fe9/30.png
END:VEVENT
END:VCALENDAR
