BEGIN:VCALENDAR
VERSION:2.0
PRODID:icalendar-ruby
CALSCALE:GREGORIAN
METHOD:PUBLISH
BEGIN:VEVENT
DTSTAMP:20260422T171749Z
UID:375-608201@genesisgc.com.au
DTSTART:20260605T083000Z
DTEND:20260605T110000Z
CLASS:PUBLIC
CREATED:20260422T104700
DESCRIPTION:Genesis Youth – Core Climbing Night\nThis week we’re headin
 g out for an excursion to Core Climbing\, the bouldering venue just down t
 he road from the church. It’s a great chance for our high‑schoolers to
  get active\, try something new\, and enjoy a fun night together. We’ll 
 be running 6.30–9pm\, and there is a $20 cost per person for entry. Make
  sure you let Jordan or Marley know who's coming!
LAST-MODIFIED:20260422T104700
LOCATION:Core Climbing\, Eastlake St Carrara
SUMMARY:Core Climbing
URL;VALUE=URI:https://genesisgc.com.au/events/core-climbing/2026-06-05
ATTACH;FILENAME=34.png;FMTTYPE=image/png:https://dq5pwpg1q8ru0.cloudfront.n
 et/2026/04/22/00/47/00/7710715a-b13b-479b-b2c4-0e5fc21c6106/34.png
END:VEVENT
END:VCALENDAR
