BEGIN:VCALENDAR
VERSION:2.0
PRODID:icalendar-ruby
CALSCALE:GREGORIAN
METHOD:PUBLISH
BEGIN:VEVENT
DTSTAMP:20260422T172029Z
UID:376-608202@genesisgc.com.au
DTSTART:20260612T080000Z
DTEND:20260612T110000Z
CLASS:PUBLIC
CREATED:20260422T104852
DESCRIPTION:Genesis Youth – Book of Records Night\nWe’re wrapping up Te
 rm 2 with a big Book of Records Night — a fun evening of challenges\, cr
 eativity\, and seeing what new “records” our high‑schoolers can set 
 together. Youth starts at 7pm\, with Bible Study from 6pm for anyone who
 ’d like to come early. A great way to finish the term on a high before t
 he school holidays.
LAST-MODIFIED:20260422T104852
LOCATION:Genesis Church
SUMMARY:Book of Records
URL;VALUE=URI:https://genesisgc.com.au/events/book-of-records/2026-06-12
ATTACH;FILENAME=35.png;FMTTYPE=image/png:https://dq5pwpg1q8ru0.cloudfront.n
 et/2026/04/22/00/48/51/1d010289-7d3b-4ce7-8016-e82776a2cf16/35.png
END:VEVENT
END:VCALENDAR
