BEGIN:VCALENDAR
VERSION:2.0
PRODID:icalendar-ruby
CALSCALE:GREGORIAN
METHOD:PUBLISH
BEGIN:VEVENT
DTSTAMP:20260422T171426Z
UID:370-608194@genesisgc.com.au
DTSTART:20260501T080000Z
DTEND:20260501T110000Z
CLASS:PUBLIC
CREATED:20260422T103130
DESCRIPTION:Genesis Youth – Blanket Fort &amp\; Board Games Night\nWe’r
 e settling in for a cosy night at youth this Friday with blanket forts\, b
 oard games\, and plenty of laughs. Youth kicks off at 7pm\, with Bible Stu
 dy from 6pm for those who’d like to come early. A great\, low‑key nigh
 t for high‑schoolers to reconnect and unwind together.
LAST-MODIFIED:20260422T103130
LOCATION:Genesis Church
SUMMARY:Blanket Fort board Games Night
URL;VALUE=URI:https://genesisgc.com.au/events/blanket-fort-board-games-nigh
 t/2026-05-01
ATTACH;FILENAME=10.png;FMTTYPE=image/png:https://dq5pwpg1q8ru0.cloudfront.n
 et/2026/04/22/00/31/29/fffc4f53-9bef-45b5-88e0-620fe1e84ce4/10.png
END:VEVENT
END:VCALENDAR
